BEGIN:VCALENDAR
VERSION:2.0
PRODID:-//eventon.com NONSGML v1.0//EN
CALSCALE:GREGORIAN
METHOD:PUBLISH
BEGIN:VEVENT
UID:69e8d5cd8e4d3
DTSTAMP:20260422T140605Z
DTSTART:20260605T000000Z
DTEND:20260605T010000Z
LOCATION:
SUMMARY:7:00PM Worship Service
DESCRIPTION:7:00PM Worship Service\nhttps://divinesaviorlutheran.com/events
 /700pm-worship-service/var/ri-1.l-L1
URL:https://divinesaviorlutheran.com/events/700pm-worship-service/var/ri-1.l-L1
END:VEVENT
END:VCALENDAR