BEGIN:VCALENDAR
VERSION:2.0
PRODID:-//eventon.com NONSGML v1.0//EN
CALSCALE:GREGORIAN
METHOD:PUBLISH
BEGIN:VEVENT
UID:69e88faaa3d48
DTSTAMP:20260422T090650Z
DTSTART:20260312T180000Z
DTEND:20260312T200000Z
LOCATION:
SUMMARY:Quilting Circle Meeting
DESCRIPTION:Quilting Circle Meeting\nhttps://divinesaviorlutheran.com/event
 s/quilting-circle-meeting/
URL:https://divinesaviorlutheran.com/events/quilting-circle-meeting/
END:VEVENT
END:VCALENDAR