BEGIN:VCALENDAR
VERSION:2.0
PRODID:-//eventon.com NONSGML v1.0//EN
CALSCALE:GREGORIAN
METHOD:PUBLISH
BEGIN:VEVENT
UID:69e8d4e0c8a3f
DTSTAMP:20260422T140208Z
DTSTART:20260422T231500Z
DTEND:20260423T001500Z
LOCATION:
SUMMARY:Handbell Choir Rehearsal
DESCRIPTION:Handbell Choir Rehearsal\nhttps://divinesaviorlutheran.com/even
 ts/handbell-choir-rehearsal-3/var/ri-3.l-L1
URL:https://divinesaviorlutheran.com/events/handbell-choir-rehearsal-3/var/ri-3.l-L1
END:VEVENT
END:VCALENDAR