BEGIN:VCALENDAR
VERSION:2.0
PRODID:-//eventon.com NONSGML v1.0//EN
CALSCALE:GREGORIAN
METHOD:PUBLISH
BEGIN:VEVENT
UID:69e9fecaf139a
DTSTAMP:20260423T111314Z
DTSTART:20250727T100000Z
DTEND:20250727T100000Z
LOCATION:
SUMMARY:Day of Community Service
DESCRIPTION:Mark your calendars and Save the Date! Divine Savior’s Day of
  Community Service is Sunday\,  July 27 after 9am Worship. We have 3 differ
 ent ways you can serve the community. Calling bingo at Serenity Village\,  
 sorting and pricing at St. Vincent De Paul\,  and Singing at Wellington Pla
 ce. So much[..]\nhttps://divinesaviorlutheran.com/events/day-of-community-s
 ervice/
URL:https://divinesaviorlutheran.com/events/day-of-community-service/
END:VEVENT
END:VCALENDAR