BEGIN:VCALENDAR
VERSION:2.0
PRODID:-//eventon.com NONSGML v1.0//EN
CALSCALE:GREGORIAN
METHOD:PUBLISH
BEGIN:VEVENT
UID:69e9e27f3aeaa
DTSTAMP:20260423T091231Z
DTSTART:20250902T233000Z
DTEND:20250903T013000Z
LOCATION:
SUMMARY:Women in Mission Meeting
DESCRIPTION:\nhttps://divinesaviorlutheran.com/events/women-in-mission-645-
 p-m/
URL:https://divinesaviorlutheran.com/events/women-in-mission-645-p-m/
END:VEVENT
END:VCALENDAR