BEGIN:VCALENDAR
VERSION:2.0
PRODID:-//eventon.com NONSGML v1.0//EN
CALSCALE:GREGORIAN
METHOD:PUBLISH
BEGIN:VEVENT
UID:69e890efba2e7
DTSTAMP:20260422T091215Z
DTSTART:20260426T143000Z
DTEND:20260426T151500Z
LOCATION:
SUMMARY:Sunday School
DESCRIPTION:Sunday School\nhttps://divinesaviorlutheran.com/events/sunday-s
 chool-930-1030-a-m/var/ri-28.l-L1
URL:https://divinesaviorlutheran.com/events/sunday-school-930-1030-a-m/var/ri-28.l-L1
END:VEVENT
END:VCALENDAR